BEGIN:VCALENDAR
VERSION:2.0
PRODID:gruene-bodenseekreis.de
METHOD:PUBLISH
BEGIN:VTIMEZONE
TZID:Europe/Berlin
X-LIC-LOCATION:Europe/Berlin
BEGIN:DAYLIGHT
TZOFFSETFROM:+0100
TZOFFSETTO:+0200
TZNAME:CEST
DTSTART:19700329T020000
RRULE:FREQ=YEARLY;INTERVAL=1;BYDAY=-1SU;BYMONTH=3
END:DAYLIGHT
BEGIN:STANDARD
TZOFFSETFROM:+0200
TZOFFSETTO:+0100
TZNAME:CET
DTSTART:19701025T030000
RRULE:FREQ=YEARLY;INTERVAL=1;BYDAY=-1SU;BYMONTH=10
END:STANDARD
END:VTIMEZONE
BEGIN:VEVENT
UID:b28e996e326bff9a783ca6f2691e8c55@gruene-bodenseekreis.de
URL;VALUE=URI:https://gruene-bodenseekreis.de/blog/termine/gruener-treff-
 tettnang-13/
LOCATION:Hotel Ritter, Karlstr. 2, Tettnang
SUMMARY:Grüner Treff Tettnang
DESCRIPTION;ALTREP="data:text/html,":
CLASS:PUBLIC
DTSTART;TZID=Europe/Berlin:20260421T193000
DTEND;TZID=Europe/Berlin:20260421T210000
DTSTAMP:20260421T044213
END:VEVENT
BEGIN:VEVENT
UID:9852d365af45b650b173a3f1dbb9b10d@gruene-bodenseekreis.de
URL;VALUE=URI:https://gruene-bodenseekreis.de/blog/termine/gruener-treff-
 aktiv-im-ortsverband-im-april-am-28-04-20-uhr/
LOCATION:Zeit für Achtsamkeit, Am Bildbach 9, Markdorf
SUMMARY:Grüner Treff: Aktiv im Ortsverband im April am 28.04., 20 Uhr
DESCRIPTION;ALTREP="data:text/html,%0A%3Cp%3EIm%20April%20treffen%20wir%2
 0uns%20in%20den%20R%C3%A4umen%20von%20%22Zeit%20f%C3%BCr%20Achtsamkeit%22
 %2C%20um%20kommende%20Aktivit%C3%A4ten%20des%20Ortsverbands%20zu%20diskut
 ieren.%20Was%20liegt%20an%3F%20Was%20sollte%20anliegen%3F%20Wir%20freuen%
 20uns%20auf%20alle%20gr%C3%BCn-bewegten%20und%20gr%C3%BCn-interessierten%
 21%3C%2Fp%3E%0A%0A%0A%0A%3Cp%3E%3C%2Fp%3E%0A":Im April treffen wir uns in
  den Räumen von "Zeit für Achtsamkeit"\, um kommende Aktivitäten des O
 rtsverbands zu diskutieren. Was liegt an? Was sollte anliegen? Wir freuen
  uns auf alle grün-bewegten und grün-interessierten!
CLASS:PUBLIC
DTSTART;TZID=Europe/Berlin:20260428T200000
DTEND;TZID=Europe/Berlin:20260428T210000
DTSTAMP:20260421T044213
END:VEVENT
BEGIN:VEVENT
UID:26723ee9f8d59b944c1a559be064bb8f@gruene-bodenseekreis.de
URL;VALUE=URI:https://gruene-bodenseekreis.de/blog/termine/gruener-treff-
 tettnang-14/
LOCATION:Hotel Ritter, Karlstr. 2, Tettnang
SUMMARY:Grüner Treff Tettnang
DESCRIPTION;ALTREP="data:text/html,":
CLASS:PUBLIC
DTSTART;TZID=Europe/Berlin:20260512T193000
DTEND;TZID=Europe/Berlin:20260512T210000
DTSTAMP:20260421T044213
END:VEVENT
BEGIN:VEVENT
UID:331fdf8b72126638e1fc2662466751b1@gruene-bodenseekreis.de
URL;VALUE=URI:https://gruene-bodenseekreis.de/blog/termine/jahreshauptver
 sammlung-des-ortsverbands/
LOCATION:
SUMMARY:Jahreshauptversammlung des Ortsverbands
DESCRIPTION;ALTREP="data:text/html,%0A%3Cp%3EWir%20laden%20noch%20separat
 %20zu%20unserer%20diesj%C3%A4hrigen%20Hauptversammlung%20ein.%20Den%20Ver
 sammlungsort%20geben%20wir%20rechtzeitig%20bekannt.%20%3C%2Fp%3E%0A":Wir 
 laden noch separat zu unserer diesjährigen Hauptversammlung ein. Den Ver
 sammlungsort geben wir rechtzeitig bekannt.
CLASS:PUBLIC
DTSTART;TZID=Europe/Berlin:20260519T190000
DTEND;TZID=Europe/Berlin:20260519T210000
DTSTAMP:20260421T044213
END:VEVENT
BEGIN:VEVENT
UID:88763021518b965a8810bd7417f948b4@gruene-bodenseekreis.de
URL;VALUE=URI:https://gruene-bodenseekreis.de/blog/termine/gruener-treff-
 tettnang-15/
LOCATION:Hotel Ritter, Karlstr. 2, Tettnang
SUMMARY:Grüner Treff Tettnang
DESCRIPTION;ALTREP="data:text/html,":
CLASS:PUBLIC
DTSTART;TZID=Europe/Berlin:20260616T193000
DTEND;TZID=Europe/Berlin:20260616T210000
DTSTAMP:20260421T044213
END:VEVENT
BEGIN:VEVENT
UID:e12d4898d3c7ef2f2bca17ed7627dc0a@gruene-bodenseekreis.de
URL;VALUE=URI:https://gruene-bodenseekreis.de/blog/termine/gruener-treff-
 tettnang-16/
LOCATION:Hotel Ritter, Karlstr. 2, Tettnang
SUMMARY:Grüner Treff Tettnang
DESCRIPTION;ALTREP="data:text/html,":
CLASS:PUBLIC
DTSTART;TZID=Europe/Berlin:20260922T193000
DTEND;TZID=Europe/Berlin:20260922T210000
DTSTAMP:20260421T044213
END:VEVENT
BEGIN:VEVENT
UID:e798a9e258c6f11a2e79597529450113@gruene-bodenseekreis.de
URL;VALUE=URI:https://gruene-bodenseekreis.de/blog/termine/gruener-treff-
 tettnang-17/
LOCATION:Hotel Ritter, Karlstr. 2, Tettnang
SUMMARY:Grüner Treff Tettnang
DESCRIPTION;ALTREP="data:text/html,":
CLASS:PUBLIC
DTSTART;TZID=Europe/Berlin:20261020T193000
DTEND;TZID=Europe/Berlin:20261020T210000
DTSTAMP:20260421T044213
END:VEVENT
BEGIN:VEVENT
UID:b033147b632c790d34072e4b5093f3a6@gruene-bodenseekreis.de
URL;VALUE=URI:https://gruene-bodenseekreis.de/blog/termine/gruener-treff-
 tettnang-18/
LOCATION:Hotel Ritter, Karlstr. 2, Tettnang
SUMMARY:Grüner Treff Tettnang
DESCRIPTION;ALTREP="data:text/html,":
CLASS:PUBLIC
DTSTART;TZID=Europe/Berlin:20261110T193000
DTEND;TZID=Europe/Berlin:20261110T210000
DTSTAMP:20260421T044213
END:VEVENT
END:VCALENDAR