BEGIN:VCALENDAR
VERSION:2.0
PRODID:gruene-bodenseekreis.de
METHOD:PUBLISH
BEGIN:VTIMEZONE
TZID:Europe/Berlin
X-LIC-LOCATION:Europe/Berlin
BEGIN:DAYLIGHT
TZOFFSETFROM:+0100
TZOFFSETTO:+0200
TZNAME:CEST
DTSTART:19700329T020000
RRULE:FREQ=YEARLY;INTERVAL=1;BYDAY=-1SU;BYMONTH=3
END:DAYLIGHT
BEGIN:STANDARD
TZOFFSETFROM:+0200
TZOFFSETTO:+0100
TZNAME:CET
DTSTART:19701025T030000
RRULE:FREQ=YEARLY;INTERVAL=1;BYDAY=-1SU;BYMONTH=10
END:STANDARD
END:VTIMEZONE
BEGIN:VEVENT
UID:dfcac83c987675286149c9934595e207@gruene-bodenseekreis.de
URL;VALUE=URI:https://gruene-bodenseekreis.de/blog/termine/verbandsversam
 mlung-regionalverband-bodensee-oberschwaben/
LOCATION:
SUMMARY:Verbandsversammlung Regionalverband Bodensee-Oberschwaben
DESCRIPTION;ALTREP="data:text/html,%0A%3Cp%3E%3Cstrong%3EWo%3A%20Am%2007.
 %20Februar%202025%20um%2009%3A30%20im%20Kurhaus%20Bad%20Wurzach%3C%2Fstro
 ng%3E%20%3Cstrong%3E-%20%C3%B6ffentlich%3C%2Fstrong%3E%3C%2Fp%3E%0A%0A%0A
 %0A%3Cp%3E%3Cstrong%3EThema%3A%20Teilfortschreibung%20Energie%20als%20Bes
 tandteil%20des%20geltenden%20Regionalplans%20%3C%2Fstrong%3E%3C%2Fp%3E%0A
 %0A%0A%0A%3Cp%3E%3Cstrong%3ESpannung%3A%20Ja%2C%20wird%20das%201%2C8%20%2
 5-Ziel%20bei%20der%20Windkraft%20gehalten%3F%3C%2Fstrong%3E%3C%2Fp%3E%0A%
 0A%0A%0A%3Cp%3E%3C%2Fp%3E%0A":Wo: Am 07. Februar 2025 um 09:30 im Kurhaus
  Bad Wurzach - öffentlich\n\nThema: Teilfortschreibung Energie als Besta
 ndteil des geltenden Regionalplans\n\nSpannung: Ja\, wird das 1\,8 %-Ziel
  bei der Windkraft gehalten?
CLASS:PUBLIC
DTSTART;TZID=Europe/Berlin:19700101T000000
DTEND;TZID=Europe/Berlin:19700101T010000
DTSTAMP:20260421T115213
END:VEVENT
END:VCALENDAR