BEGIN:VCALENDAR
VERSION:2.0
PRODID:gruene-bodenseekreis.de
METHOD:PUBLISH
BEGIN:VTIMEZONE
TZID:Europe/Berlin
X-LIC-LOCATION:Europe/Berlin
BEGIN:DAYLIGHT
TZOFFSETFROM:+0100
TZOFFSETTO:+0200
TZNAME:CEST
DTSTART:19700329T020000
RRULE:FREQ=YEARLY;INTERVAL=1;BYDAY=-1SU;BYMONTH=3
END:DAYLIGHT
BEGIN:STANDARD
TZOFFSETFROM:+0200
TZOFFSETTO:+0100
TZNAME:CET
DTSTART:19701025T030000
RRULE:FREQ=YEARLY;INTERVAL=1;BYDAY=-1SU;BYMONTH=10
END:STANDARD
END:VTIMEZONE
BEGIN:VEVENT
UID:19798a1d1f1a0b32904643f6339b8f22@gruene-bodenseekreis.de
URL;VALUE=URI:https://gruene-bodenseekreis.de/blog/termine/stammtisch-in-
 ueberlingen/
LOCATION:Gasthof Engel, Hafenstraße 1, Überlingen
SUMMARY:Stammtisch in Überlingen
DESCRIPTION;ALTREP="data:text/html,%0A%3Cp%3E%3Cstrong%3EDatum%3A%26nbsp%
 3B%20Jeden%20ersten%20Donnerstag%20im%20Monat%20um%2019%3A00%20Uhr%3C%2Fs
 trong%3E%3C%2Fp%3E%0A%0A%0A%0A%3Cp%3E%3Cstrong%3EOrt%3A%26nbsp%3B%20%26nb
 sp%3B%20%26nbsp%3B%20%26nbsp%3B%20Gasthof%20Engel%2C%20Hofstatt%20%C3%9Cb
 erlingen%26nbsp%3B%3C%2Fstrong%3E%3C%2Fp%3E%0A%0A%0A%0A%3Cp%3EWir%20freue
 n%20uns%20auf%20Euer%20Kommen%20und%20anregende%20Gespr%C3%A4che%21%20%E2
 %98%BA%3C%2Fp%3E%0A%0A%0A%0A%3Cp%3EHerzlichen%20Gru%C3%9F%3C%2Fp%3E%0A%0A
 %0A%0A%3Cp%3EThomas%20Brandt%20%26amp%3B%20Bettina%20Dreiseitl%3C%2Fp%3E%
 0A":Datum:  Jeden ersten Donnerstag im Monat um 19:00 Uhr\n\nOrt:    
     Gasthof Engel\, Hofstatt Überlingen \n\nWir freuen uns auf Euer K
 ommen und anregende Gespräche! ☺\n\nHerzlichen Gruß\n\nThomas Brandt 
 & Bettina Dreiseitl
CLASS:PUBLIC
DTSTART;TZID=Europe/Berlin:20221006T190000
DTEND;TZID=Europe/Berlin:20221006T220000
DTSTAMP:20260419T153357
END:VEVENT
END:VCALENDAR