BEGIN:VCALENDAR
VERSION:2.0
PRODID:gruene-bodenseekreis.de
METHOD:PUBLISH
BEGIN:VTIMEZONE
TZID:Europe/Berlin
X-LIC-LOCATION:Europe/Berlin
BEGIN:DAYLIGHT
TZOFFSETFROM:+0100
TZOFFSETTO:+0200
TZNAME:CEST
DTSTART:19700329T020000
RRULE:FREQ=YEARLY;INTERVAL=1;BYDAY=-1SU;BYMONTH=3
END:DAYLIGHT
BEGIN:STANDARD
TZOFFSETFROM:+0200
TZOFFSETTO:+0100
TZNAME:CET
DTSTART:19701025T030000
RRULE:FREQ=YEARLY;INTERVAL=1;BYDAY=-1SU;BYMONTH=10
END:STANDARD
END:VTIMEZONE
BEGIN:VEVENT
UID:576580a44c6794951602694461a4b855@gruene-bodenseekreis.de
URL;VALUE=URI:https://gruene-bodenseekreis.de/blog/termine/sommerfest/
LOCATION:
SUMMARY:Abgesagt: Sommerfest
DESCRIPTION;ALTREP="data:text/html,%0A%3Cp%3ELiebe%20Freunde%2C%20wir%20h
 aben%20uns%20sehr%20auf%20das%20gemeinsame%20Sommerfest%20gefreut.%20Jetz
 t%20scheint%20uns%20die%20Wetterg%C3%B6ttin%20nicht%20besonders%20hold%20
 zu%20sein.%20Einerseits%20bringt%20sie%20lange%20ersehnten%20Regen%2C%20a
 ndererseits%20mit%20einer%20recht%20hohen%20Wahrscheinlichkeit%20verbunde
 n%20mit%20Gewitter.%20Das%20ist%20unter%20einem%20Zeltdach%20keine%20sich
 ere%20Option.%20Und%20das%20m%C3%B6chten%20wir%20auch%20niemandem%20zumut
 en.%20%3C%2Fp%3E%0A%0A%0A%0A%3Cp%3EDeshalb%20haben%20wir%20uns%20schweren
 %20Herzens%20entschlossen%2C%20das%20Sommerfest%20f%C3%BCr%20diesen%20Fre
 itag%20abzusagen.%20Wir%20werden%20%C3%BCberlegen%2C%20was%20und%20in%20w
 elcher%20Form%20wir%20tun%20k%C3%B6nnen%2C%20um%20im%20Bodenseekreis%20ge
 meinsam%20zusammen%20zu%20kommen.%3C%2Fp%3E%0A%0A%0A%0A%3Cp%3E%3C%2Fp%3E%
 0A":Liebe Freunde\, wir haben uns sehr auf das gemeinsame Sommerfest gefr
 eut. Jetzt scheint uns die Wettergöttin nicht besonders hold zu sein. Ei
 nerseits bringt sie lange ersehnten Regen\, andererseits mit einer recht 
 hohen Wahrscheinlichkeit verbunden mit Gewitter. Das ist unter einem Zelt
 dach keine sichere Option. Und das möchten wir auch niemandem zumuten.\n
 \nDeshalb haben wir uns schweren Herzens entschlossen\, das Sommerfest f
 ür diesen Freitag abzusagen. Wir werden überlegen\, was und in welcher 
 Form wir tun können\, um im Bodenseekreis gemeinsam zusammen zu kommen.
CLASS:PUBLIC
DTSTART;TZID=Europe/Berlin:20230630T123500
DTEND;TZID=Europe/Berlin:20230630T133500
DTSTAMP:20260424T083854
END:VEVENT
END:VCALENDAR