BEGIN:VCALENDAR
VERSION:2.0
PRODID:gruene-bodenseekreis.de
METHOD:PUBLISH
BEGIN:VTIMEZONE
TZID:Europe/Berlin
X-LIC-LOCATION:Europe/Berlin
BEGIN:DAYLIGHT
TZOFFSETFROM:+0100
TZOFFSETTO:+0200
TZNAME:CEST
DTSTART:19700329T020000
RRULE:FREQ=YEARLY;INTERVAL=1;BYDAY=-1SU;BYMONTH=3
END:DAYLIGHT
BEGIN:STANDARD
TZOFFSETFROM:+0200
TZOFFSETTO:+0100
TZNAME:CET
DTSTART:19701025T030000
RRULE:FREQ=YEARLY;INTERVAL=1;BYDAY=-1SU;BYMONTH=10
END:STANDARD
END:VTIMEZONE
BEGIN:VEVENT
UID:de71e3a12daa7417a4a43ce63ad2ce47@gruene-bodenseekreis.de
URL;VALUE=URI:https://gruene-bodenseekreis.de/blog/termine/save-the-date-
 offenes-sommerfest-ov-tettnang/
LOCATION:Sommerfest OV Tettnang, Tettnang
SUMMARY:Save The Date: Offenes Sommerfest OV Tettnang
DESCRIPTION;ALTREP="data:text/html,%0A%3Cp%3E14.07.%20ab%20ca.%2017%3A00%
 20in%20Tettnang-Kernstadt%3C%2Fp%3E%0A":14.07. ab ca. 17:00 in Tettnang-K
 ernstadt
CLASS:PUBLIC
DTSTART;TZID=Europe/Berlin:20230714T170000
DTEND;TZID=Europe/Berlin:20230714T220000
DTSTAMP:20260421T100756
END:VEVENT
END:VCALENDAR