BEGIN:VCALENDAR
VERSION:2.0
PRODID:gruene-bodenseekreis.de
METHOD:PUBLISH
BEGIN:VTIMEZONE
TZID:Europe/Berlin
X-LIC-LOCATION:Europe/Berlin
BEGIN:DAYLIGHT
TZOFFSETFROM:+0100
TZOFFSETTO:+0200
TZNAME:CEST
DTSTART:19700329T020000
RRULE:FREQ=YEARLY;INTERVAL=1;BYDAY=-1SU;BYMONTH=3
END:DAYLIGHT
BEGIN:STANDARD
TZOFFSETFROM:+0200
TZOFFSETTO:+0100
TZNAME:CET
DTSTART:19701025T030000
RRULE:FREQ=YEARLY;INTERVAL=1;BYDAY=-1SU;BYMONTH=10
END:STANDARD
END:VTIMEZONE
BEGIN:VEVENT
UID:5b62d78062175a7f0f2992c007f33ea9@gruene-bodenseekreis.de
URL;VALUE=URI:https://gruene-bodenseekreis.de/blog/termine/ov-sitzung/
LOCATION:Sitzungszimmer des Kulturamtes, Vorburggasse 13, Meersburg
SUMMARY:OV-Sitzung
DESCRIPTION;ALTREP="data:text/html,%0A%3Cp%3E20.01.2023%2C%20um%2019%20Uh
 r%3C%2Fp%3E%0A%0A%0A%0A%3Cp%3Eim%20Sitzungszimmer%20des%20Kulturamtes%3C%
 2Fp%3E%0A%0A%0A%0A%3Cp%3EMeersburg%2C%20Vorburggasse%2013%3C%2Fp%3E%0A%0A
 %0A%0A%3Cp%3ETagesordnung%3A%3C%2Fp%3E%0A%0A%0A%0A%3Cp%3E0.%20Begr%C3%BC%
 C3%9Fung%3B%20Genehmigung%20der%20TO%3C%2Fp%3E%0A%0A%0A%0A%3Col%20class%3
 D%22wp-block-list%22%3E%0A%3Cli%3ENachwahl%20einer%20Beisitzer%2Ain%3C%2F
 li%3E%0A%0A%0A%0A%3Cli%3EImageflyer%20u.a.%3C%2Fli%3E%0A%0A%0A%0A%3Cli%3E
 Planung%202023%20%28Termine%2C%20Aktionen%2C%20...%29%3C%2Fli%3E%0A%0A%0A
 %0A%3Cli%3EBerichte%20aus%20den%20Gremien%3C%2Fli%3E%0A%0A%0A%0A%3Cli%3EV
 erschiedenes%3C%2Fli%3E%0A%3C%2Fol%3E%0A%0A%0A%0A%3Cp%3EAlle%20Mitglieder
 %20und%20alle%20Interessierten%20sind%20herzlich%20eingeladen.%3C%2Fp%3E%
 0A":20.01.2023\, um 19 Uhr\n\nim Sitzungszimmer des Kulturamtes\n\nMeersb
 urg\, Vorburggasse 13\n\nTagesordnung:\n\n0. Begrüßung\; Genehmigung de
 r TO\n\nNachwahl einer Beisitzer*in\n\nImageflyer u.a.\n\nPlanung 2023 (T
 ermine\, Aktionen\, ...)\n\nBerichte aus den Gremien\n\nVerschiedenes\n\n
 Alle Mitglieder und alle Interessierten sind herzlich eingeladen.
CLASS:PUBLIC
DTSTART;TZID=Europe/Berlin:20230120T190000
DTEND;TZID=Europe/Berlin:20230120T210000
DTSTAMP:20260420T094013
END:VEVENT
END:VCALENDAR