BEGIN:VCALENDAR
VERSION:2.0
PRODID:gruene-bodenseekreis.de
METHOD:PUBLISH
BEGIN:VTIMEZONE
TZID:Europe/Berlin
X-LIC-LOCATION:Europe/Berlin
BEGIN:DAYLIGHT
TZOFFSETFROM:+0100
TZOFFSETTO:+0200
TZNAME:CEST
DTSTART:19700329T020000
RRULE:FREQ=YEARLY;INTERVAL=1;BYDAY=-1SU;BYMONTH=3
END:DAYLIGHT
BEGIN:STANDARD
TZOFFSETFROM:+0200
TZOFFSETTO:+0100
TZNAME:CET
DTSTART:19701025T030000
RRULE:FREQ=YEARLY;INTERVAL=1;BYDAY=-1SU;BYMONTH=10
END:STANDARD
END:VTIMEZONE
BEGIN:VEVENT
UID:789df320c9385b458ff391c60457ca88@gruene-bodenseekreis.de
URL;VALUE=URI:https://gruene-bodenseekreis.de/blog/termine/ortsverbandssi
 tzung-tettnang-im-februar/
LOCATION:Hotel Ritter, Karlstr. 2/4, Tettnang
SUMMARY:Ortsverbandssitzung Tettnang im Februar
DESCRIPTION;ALTREP="data:text/html,%0A%3Cp%3EThema%3A%20Wie%20wollen%20Te
 ttnanger%2Ainnen%20im%20Alter%20leben%3F%3C%2Fp%3E%0A":Thema: Wie wollen 
 Tettnanger*innen im Alter leben?
CLASS:PUBLIC
DTSTART;TZID=Europe/Berlin:20230215T200000
DTEND;TZID=Europe/Berlin:20230215T220000
DTSTAMP:20260425T134539
END:VEVENT
END:VCALENDAR