BEGIN:VCALENDAR
VERSION:2.0
PRODID:gruene-bodenseekreis.de
METHOD:PUBLISH
BEGIN:VTIMEZONE
TZID:Europe/Berlin
X-LIC-LOCATION:Europe/Berlin
BEGIN:DAYLIGHT
TZOFFSETFROM:+0100
TZOFFSETTO:+0200
TZNAME:CEST
DTSTART:19700329T020000
RRULE:FREQ=YEARLY;INTERVAL=1;BYDAY=-1SU;BYMONTH=3
END:DAYLIGHT
BEGIN:STANDARD
TZOFFSETFROM:+0200
TZOFFSETTO:+0100
TZNAME:CET
DTSTART:19701025T030000
RRULE:FREQ=YEARLY;INTERVAL=1;BYDAY=-1SU;BYMONTH=10
END:STANDARD
END:VTIMEZONE
BEGIN:VEVENT
UID:dde7ac5505ff09014cc0e2a1376ae759@gruene-bodenseekreis.de
URL;VALUE=URI:https://gruene-bodenseekreis.de/blog/termine/ortsverbandssi
 tzung-im-februar/
LOCATION:Flieger, Bahnshofplatz 1, Tettnang
SUMMARY:Nominierungsveranstaltung Tettnang
DESCRIPTION;ALTREP="data:text/html,%0A%3Cp%3EF%C3%BCr%20Ortschafts-%20%26
 amp%3B%20Gemeinder%C3%A4t%2Ainnen%20%20auf%20der%20Gemarkung%20Tettnang%2
 0und%3Cbr%3EKreisr%C3%A4t%2Ainnen%20f%C3%BCr%20den%20Bereich%20Meckenbeur
 en%2C%20Tettnang%20und%20Neukirch%3C%2Fp%3E%0A%0A%0A%0A%3Cp%3ETagesordnun
 g%3A%3C%2Fp%3E%0A%0A%0A%0A%3Col%20class%3D%22wp-block-list%22%3E%0A%3Cli%
 3EEr%C3%B6ffnung%20und%20Begr%C3%BC%C3%9Fung%20durch%20den%20Kreisvorstan
 d%3C%2Fli%3E%0A%0A%0A%0A%3Cli%3EFeststellung%20der%20fristgerechten%20und
 %20ordnungsgem%C3%A4%C3%9Fen%20Einladung%3C%2Fli%3E%0A%0A%0A%0A%3Cli%3EGe
 nehmigung%20der%20Tagesordnung%3C%2Fli%3E%0A%0A%0A%0A%3Cli%3EWahl%20des%2
 F%20der%20Schriftf%C3%BChrer%3Cem%3Ein%20und%20Wahl%20des%2F%20der%20Vers
 ammlungsleiter%3C%2Fem%3Ein%3C%2Fli%3E%0A%0A%0A%0A%3Cli%3EAbstimmung%20%C
 3%BCber%20das%20Aufstellungs-%20und%20Wahlverfahren%3C%2Fli%3E%0A%0A%0A%0
 A%3Cli%3ENominierung%20der%20Kandidat%2Ainnen%20f%C3%BCr%20den%20Kreistag
 %20Bodenseekreis%3C%2Fli%3E%0A%0A%0A%0A%3Cli%3ENominierung%20der%20Kandid
 at%2Ainnen%20f%C3%BCr%20den%20Gemeinderat%20Tettnang%3C%2Fli%3E%0A%0A%0A%
 0A%3Cli%3ESonstiges%3C%2Fli%3E%0A%3C%2Fol%3E%0A%0A%0A%0A%3Cp%3EAuf%20der%
 20Nominierungsversammlung%20w%C3%A4hlen%20wir%20die%20Kandidatinnen%20und
 %20Kandidaten%20sowie%20ihre%20Reihenfolge%20auf%20dem%20Wahlvorschlag%20
 f%C3%BCr%20die%20%3Cstrong%3EKreistagswahl%3C%2Fstrong%3E.%20Zur%20Wahl%2
 0stehen%20sowohl%20Mitglieder%20der%20Gr%C3%BCnen%20als%20auch%20Nichtmit
 glieder.%20Wahlberechtigt%20sind%20die%20anwesenden%20Parteimitglieder%20
 mit%20Hauptwohnsitz%20im%20Bodenseekreis.%3C%2Fp%3E%0A%0A%0A%0A%3Cp%3EAuf
 %20der%20Nominierungsversammlung%20w%C3%A4hlen%20wir%20auch%20die%20Kandi
 datinnen%20und%20Kandidaten%20sowie%20ihre%20Reihenfolge%20auf%20dem%20Wa
 hlvorschlag%20f%C3%BCr%20die%20%3Cstrong%3EGemeinderatswahl%3C%2Fstrong%3
 E.%20Zur%20Wahl%20stehen%20sowohl%20Mitglieder%20der%20Gr%C3%BCnen%20als%
 20auch%20Nichtmitglieder.%20Wahlberechtigt%20sind%20die%20anwesenden%20Pa
 rteimitglieder%20mit%20Hauptwohnsitz%20in%20Tettnang.%3C%2Fp%3E%0A":Für 
 Ortschafts- & Gemeinderät*innen  auf der Gemarkung Tettnang undKreisrät
 *innen für den Bereich Meckenbeuren\, Tettnang und Neukirch\n\nTagesordn
 ung:\n\nEröffnung und Begrüßung durch den Kreisvorstand\n\nFeststellun
 g der fristgerechten und ordnungsgemäßen Einladung\n\nGenehmigung der T
 agesordnung\n\nWahl des/ der Schriftführerin und Wahl des/ der Versammlu
 ngsleiterin\n\nAbstimmung über das Aufstellungs- und Wahlverfahren\n\nNo
 minierung der Kandidat*innen für den Kreistag Bodenseekreis\n\nNominieru
 ng der Kandidat*innen für den Gemeinderat Tettnang\n\nSonstiges\n\nAuf d
 er Nominierungsversammlung wählen wir die Kandidatinnen und Kandidaten s
 owie ihre Reihenfolge auf dem Wahlvorschlag für die Kreistagswahl. Zur W
 ahl stehen sowohl Mitglieder der Grünen als auch Nichtmitglieder. Wahlbe
 rechtigt sind die anwesenden Parteimitglieder mit Hauptwohnsitz im Bodens
 eekreis.\n\nAuf der Nominierungsversammlung wählen wir auch die Kandidat
 innen und Kandidaten sowie ihre Reihenfolge auf dem Wahlvorschlag für di
 e Gemeinderatswahl. Zur Wahl stehen sowohl Mitglieder der Grünen als auc
 h Nichtmitglieder. Wahlberechtigt sind die anwesenden Parteimitglieder mi
 t Hauptwohnsitz in Tettnang.
CLASS:PUBLIC
DTSTART;TZID=Europe/Berlin:20240220T190000
DTEND;TZID=Europe/Berlin:20240220T220000
DTSTAMP:20260419T163144
END:VEVENT
END:VCALENDAR