BEGIN:VCALENDAR
VERSION:2.0
PRODID:gruene-bodenseekreis.de
METHOD:PUBLISH
BEGIN:VTIMEZONE
TZID:Europe/Berlin
X-LIC-LOCATION:Europe/Berlin
BEGIN:DAYLIGHT
TZOFFSETFROM:+0100
TZOFFSETTO:+0200
TZNAME:CEST
DTSTART:19700329T020000
RRULE:FREQ=YEARLY;INTERVAL=1;BYDAY=-1SU;BYMONTH=3
END:DAYLIGHT
BEGIN:STANDARD
TZOFFSETFROM:+0200
TZOFFSETTO:+0100
TZNAME:CET
DTSTART:19701025T030000
RRULE:FREQ=YEARLY;INTERVAL=1;BYDAY=-1SU;BYMONTH=10
END:STANDARD
END:VTIMEZONE
BEGIN:VEVENT
UID:9ee1f0984ef23e43ace92a6a54153b88@gruene-bodenseekreis.de
URL;VALUE=URI:https://gruene-bodenseekreis.de/blog/termine/ortsverbandssi
 tzung-im-dezember-mit-klima-ini-tt/
LOCATION:Hotel Ritter, Nebenraum, Karlstraße 2/4, Tettnang
SUMMARY:Ortsverbandssitzung im Dezember mit Klima-Ini TT
DESCRIPTION;ALTREP="data:text/html,%0A%3Cp%3EWir%20bekommen%20im%20Dezemb
 er%20Besuch%20von%20der%20Klima-Ini%20in%20Tettnang.%20%3Cbr%3ESie%20wird
 %20sich%20und%20ihre%20Arbeit%20vorstellen%20und%20mit%20uns%20ins%20Gesp
 r%C3%A4ch%20kommen.%20%3C%2Fp%3E%0A":Wir bekommen im Dezember Besuch von 
 der Klima-Ini in Tettnang. Sie wird sich und ihre Arbeit vorstellen und m
 it uns ins Gespräch kommen.
CLASS:PUBLIC
DTSTART;TZID=Europe/Berlin:20231212T193000
DTEND;TZID=Europe/Berlin:20231212T210000
DTSTAMP:20260422T194921
END:VEVENT
END:VCALENDAR