BEGIN:VCALENDAR
VERSION:2.0
PRODID:gruene-bodenseekreis.de
METHOD:PUBLISH
BEGIN:VTIMEZONE
TZID:Europe/Berlin
X-LIC-LOCATION:Europe/Berlin
BEGIN:DAYLIGHT
TZOFFSETFROM:+0100
TZOFFSETTO:+0200
TZNAME:CEST
DTSTART:19700329T020000
RRULE:FREQ=YEARLY;INTERVAL=1;BYDAY=-1SU;BYMONTH=3
END:DAYLIGHT
BEGIN:STANDARD
TZOFFSETFROM:+0200
TZOFFSETTO:+0100
TZNAME:CET
DTSTART:19701025T030000
RRULE:FREQ=YEARLY;INTERVAL=1;BYDAY=-1SU;BYMONTH=10
END:STANDARD
END:VTIMEZONE
BEGIN:VEVENT
UID:94ac25f5d8983e31f61364b5cc6b1799@gruene-bodenseekreis.de
URL;VALUE=URI:https://gruene-bodenseekreis.de/blog/termine/mitgliedervers
 ammlung-ortsverband-friedrichshafen/
LOCATION:Café Karamell, Friedrichshafen
SUMMARY:Mitgliederversammlung Ortsverband Friedrichshafen
DESCRIPTION;ALTREP="data:text/html,%0A%3Cp%3EWir%20treffen%20uns%20am%202
 1.%20M%C3%A4rz%202023%20um%2019%20Uhr%20im%20Caf%C3%A9%20Karamell%20in%20
 der%20Paulinenstra%C3%9Fe%2020.%20Nach%20einer%20Vorstellung%20der%20List
 e%20Pro%20Kluftern%20werden%20wir%20uns%20mit%20der%20Potenzialanalyse%20
 f%C3%BCr%20PV-Anlagen%20in%20Friedrichshafen%20vertraut%20machen.%20Au%C3
 %9Ferdem%20gibt%20es%20Neuigkeiten%20aus%20den%20Gremien%20und%20Planunge
 n.%20Wir%20freuen%20uns%20einen%20Austausch.%3C%2Fp%3E%0A%0A%0A%0A%3Cp%3E
 %3C%2Fp%3E%0A":Wir treffen uns am 21. März 2023 um 19 Uhr im Café Karam
 ell in der Paulinenstraße 20. Nach einer Vorstellung der Liste Pro Kluft
 ern werden wir uns mit der Potenzialanalyse für PV-Anlagen in Friedrichs
 hafen vertraut machen. Außerdem gibt es Neuigkeiten aus den Gremien und 
 Planungen. Wir freuen uns einen Austausch.
CLASS:PUBLIC
DTSTART;TZID=Europe/Berlin:20230321T190000
DTEND;TZID=Europe/Berlin:20230321T200000
DTSTAMP:20260420T103726
END:VEVENT
END:VCALENDAR