BEGIN:VCALENDAR
VERSION:2.0
PRODID:gruene-bodenseekreis.de
METHOD:PUBLISH
BEGIN:VTIMEZONE
TZID:Europe/Berlin
X-LIC-LOCATION:Europe/Berlin
BEGIN:DAYLIGHT
TZOFFSETFROM:+0100
TZOFFSETTO:+0200
TZNAME:CEST
DTSTART:19700329T020000
RRULE:FREQ=YEARLY;INTERVAL=1;BYDAY=-1SU;BYMONTH=3
END:DAYLIGHT
BEGIN:STANDARD
TZOFFSETFROM:+0200
TZOFFSETTO:+0100
TZNAME:CET
DTSTART:19701025T030000
RRULE:FREQ=YEARLY;INTERVAL=1;BYDAY=-1SU;BYMONTH=10
END:STANDARD
END:VTIMEZONE
BEGIN:VEVENT
UID:901a5af4b932deeddba5e73eae6e0757@gruene-bodenseekreis.de
URL;VALUE=URI:https://gruene-bodenseekreis.de/blog/termine/kommunalpoliti
 scher-spaziergang-ueber-die-streuobstwiese/
LOCATION:Bioland Streuobsthof Lenski, Bergstr. 30, Salem-Mittelstenweiler
SUMMARY:Kommunalpolitischer Spaziergang über die Streuobstwiese
DESCRIPTION;ALTREP="data:text/html,%0A%3Cp%3ELernen%20Sie%20uns%20kennen%
 20und%20kommen%20Sie%20mit%20uns%20%C3%BCber%20den%20bunten%20Strau%C3%9F
 %20an%20kommunalen%20Themen%20Energie%2C%20%C3%96PNV%2C%20Kl%C3%A4ranlage
 %E2%80%A6.%20ins%20Gespr%C3%A4ch.%20Hierzu%20laden%20wir%20Sie%20herzlich
 %20zu%20einem%20Spaziergang%20%C3%BCber%20die%20Streuobstwiesen%20der%20F
 amilie%20Lenski%20ein%2C%20bei%20dem%20wir%20uns%20vorstellen%20und%20mit
 %20ihnen%20in%20den%20Austausch%20kommen%20wollen.%3C%2Fp%3E%0A%0A%0A%0A%
 3Cp%3E%28Die%20Veranstaltung%20findet%20nur%20bei%20trockenem%20Wetter%20
 statt.%29%3C%2Fp%3E%0A%0A%0A%0A%3Cp%3EDie%20Kandidaten%20und%20Kandidatin
 nen%20der%20GOL%3A%20%20Suzan%20Hahnemann%2C%20Severin%20Neubauer%2C%20Ge
 org%20Rayczyk%2C%20Petra%20Karg%2C%20Ulrike%20Lenski%3C%2Fp%3E%0A":Lernen
  Sie uns kennen und kommen Sie mit uns über den bunten Strauß an kommun
 alen Themen Energie\, ÖPNV\, Kläranlage…. ins Gespräch. Hierzu laden
  wir Sie herzlich zu einem Spaziergang über die Streuobstwiesen der Fami
 lie Lenski ein\, bei dem wir uns vorstellen und mit ihnen in den Austausc
 h kommen wollen.\n\n(Die Veranstaltung findet nur bei trockenem Wetter st
 att.)\n\nDie Kandidaten und Kandidatinnen der GOL:  Suzan Hahnemann\, Sev
 erin Neubauer\, Georg Rayczyk\, Petra Karg\, Ulrike Lenski
CLASS:PUBLIC
DTSTART;TZID=Europe/Berlin:20240511T150000
DTEND;TZID=Europe/Berlin:20240511T160000
DTSTAMP:20260421T034715
END:VEVENT
END:VCALENDAR