BEGIN:VCALENDAR
VERSION:2.0
PRODID:gruene-bodenseekreis.de
METHOD:PUBLISH
BEGIN:VTIMEZONE
TZID:Europe/Berlin
X-LIC-LOCATION:Europe/Berlin
BEGIN:DAYLIGHT
TZOFFSETFROM:+0100
TZOFFSETTO:+0200
TZNAME:CEST
DTSTART:19700329T020000
RRULE:FREQ=YEARLY;INTERVAL=1;BYDAY=-1SU;BYMONTH=3
END:DAYLIGHT
BEGIN:STANDARD
TZOFFSETFROM:+0200
TZOFFSETTO:+0100
TZNAME:CET
DTSTART:19701025T030000
RRULE:FREQ=YEARLY;INTERVAL=1;BYDAY=-1SU;BYMONTH=10
END:STANDARD
END:VTIMEZONE
BEGIN:VEVENT
UID:c9fa914446e2ebfeea5205a24e114e59@gruene-bodenseekreis.de
URL;VALUE=URI:https://gruene-bodenseekreis.de/blog/termine/jahreshauptver
 sammlung/
LOCATION:GPZ Friedrichshafen, Paulinenstr. 12, Friedrichshafen
SUMMARY:Jahreshauptversammlung
DESCRIPTION;ALTREP="data:text/html,%0A%3Cp%3ELiebes%20Mitglied%20von%20B%
 C3%BCndnis%2090%20%2F%20Die%20Gr%C3%BCnen%20im%20Bodenseekreis%2C%3C%2Fp%
 3E%0A%0A%0A%0A%3Cp%3E%3C%2Fp%3E%0A%0A%0A%0A%3Cp%3Emit%20der%20fristgerech
 ten%20Einladung%20zu%20unserer%20Jahreshauptversammlung%20stehen%20auch%2
 0wieder%20die%20turnusgem%C3%A4%C3%9Fen%20Vorstandswahlen%20auf%20unserer
 %20Agenda.%20Die%20Tagesordnung%20sind%20in%20einem%20gesonderten%20Schre
 iben%20beigef%C3%BCgt.%3C%2Fp%3E%0A%0A%0A%0A%3Cp%3EEs%20war%20eine%20sehr
 %20turbulente%20Zeit%2C%20in%20der%20unser%20Kreisvorstand%20die%20stetig
 %20wachsenden%20Aufgaben%20%C3%BCbernommen%20hat.%20Politisch%20ist%20Vie
 les%20in%20Bewegung%20geraten%20und%20auch%20innerhalb%20des%20Vorstands%
 20gab%20es%20Ver%C3%A4nderungen.%20Wir%20m%C3%B6chten%20uns%20nun%20im%20
 Vorfeld%20der%20Kommunalwahlen%20und%20der%20Europawahl%20neu%20aufstelle
 n%20und%20laden%20Engagierte%20und%20Interessierte%20ganz%20herzlich%20da
 zu%20ein%2C%20f%C3%BCr%20die%20spannende%20politische%20Arbeit%20zu%20kan
 didieren.%3C%2Fp%3E%0A%0A%0A%0A%3Cp%3EEinige%20unserer%20Vorstandsmitglie
 der%20werde%20nicht%20erneut%20kandidieren%2C%20weil%20sich%20im%20pers%C
 3%B6nlichen%20Umfeld%20Entwicklungen%20ergaben%2C%20die%20Kr%C3%A4fte%20b
 inden%20und%20die%20Kapazit%C3%A4ten%20f%C3%BCr%20den%20Wahlkampf%20nicht
 %20ausreichen.%20Das%20ist%20bitter%2C%20weil%20gerade%20f%C3%BCr%20diese
 %20sehr%20spannende%20und%20anregende%20Zeit%20das%20Engagement%20zur%C3%
 BCckgefahren%20werden%20muss.%20Doch%20sicher%20finden%20sich%20unter%20u
 nseren%20Mitgliedern%20Menschen%2C%20die%20sich%20vorstellen%20k%C3%B6nne
 n%2C%20hier%20aktiver%20zu%20werden%20und%20unseren%20Bodenseekreis%20unt
 erst%C3%BCtzen%20m%C3%B6chten.%3C%2Fp%3E%0A%0A%0A%0A%3Cp%3EWir%20werden%2
 0im%20Rahmen%20der%20Jahreshauptversammlung%20darlegen%2C%20was%20wir%20b
 islang%20geschafft%20haben%20und%20stehen%20Interessierten%20f%C3%BCr%20F
 ragen%20jederzeit%20offen%20gegen%C3%BCber%20und%20freuen%20uns%20darauf%
 2C%20wieder%20ein%20gutes%20und%20konstruktives%20Team%20zusammenzuf%C3%B
 Chren%2C%20das%20Spa%C3%9F%20am%20Gestalten%20und%20Wirken%20auf%20Kreise
 bene%20hat.%3C%2Fp%3E%0A%0A%0A%0A%3Cp%3EHerzliche%20Gr%C3%BC%C3%9Fe%2C%3C
 %2Fp%3E%0A%0A%0A%0A%3Cp%3EChristine%20Heimpel%20und%20Barbara%20Wagner%3C
 br%3ESprecherinnen%20KV%20Bodenseekreis%20im%20Namen%20aller%20Vorstandsm
 itglieder%3C%2Fp%3E%0A":Liebes Mitglied von Bündnis 90 / Die Grünen im 
 Bodenseekreis\,\n\nmit der fristgerechten Einladung zu unserer Jahreshaup
 tversammlung stehen auch wieder die turnusgemäßen Vorstandswahlen auf u
 nserer Agenda. Die Tagesordnung sind in einem gesonderten Schreiben beige
 fügt.\n\nEs war eine sehr turbulente Zeit\, in der unser Kreisvorstand d
 ie stetig wachsenden Aufgaben übernommen hat. Politisch ist Vieles in Be
 wegung geraten und auch innerhalb des Vorstands gab es Veränderungen. Wi
 r möchten uns nun im Vorfeld der Kommunalwahlen und der Europawahl neu a
 ufstellen und laden Engagierte und Interessierte ganz herzlich dazu ein\,
  für die spannende politische Arbeit zu kandidieren.\n\nEinige unserer V
 orstandsmitglieder werde nicht erneut kandidieren\, weil sich im persönl
 ichen Umfeld Entwicklungen ergaben\, die Kräfte binden und die Kapazitä
 ten für den Wahlkampf nicht ausreichen. Das ist bitter\, weil gerade fü
 r diese sehr spannende und anregende Zeit das Engagement zurückgefahren 
 werden muss. Doch sicher finden sich unter unseren Mitgliedern Menschen\,
  die sich vorstellen können\, hier aktiver zu werden und unseren Bodense
 ekreis unterstützen möchten.\n\nWir werden im Rahmen der Jahreshauptver
 sammlung darlegen\, was wir bislang geschafft haben und stehen Interessie
 rten für Fragen jederzeit offen gegenüber und freuen uns darauf\, wiede
 r ein gutes und konstruktives Team zusammenzuführen\, das Spaß am Gesta
 lten und Wirken auf Kreisebene hat.\n\nHerzliche Grüße\,\n\nChristine H
 eimpel und Barbara WagnerSprecherinnen KV Bodenseekreis im Namen aller Vo
 rstandsmitglieder
CLASS:PUBLIC
DTSTART;TZID=Europe/Berlin:20231109T183000
DTEND;TZID=Europe/Berlin:20231109T193000
DTSTAMP:20260422T100530
END:VEVENT
END:VCALENDAR