BEGIN:VCALENDAR
VERSION:2.0
PRODID:gruene-bodenseekreis.de
METHOD:PUBLISH
BEGIN:VTIMEZONE
TZID:Europe/Berlin
X-LIC-LOCATION:Europe/Berlin
BEGIN:DAYLIGHT
TZOFFSETFROM:+0100
TZOFFSETTO:+0200
TZNAME:CEST
DTSTART:19700329T020000
RRULE:FREQ=YEARLY;INTERVAL=1;BYDAY=-1SU;BYMONTH=3
END:DAYLIGHT
BEGIN:STANDARD
TZOFFSETFROM:+0200
TZOFFSETTO:+0100
TZNAME:CET
DTSTART:19701025T030000
RRULE:FREQ=YEARLY;INTERVAL=1;BYDAY=-1SU;BYMONTH=10
END:STANDARD
END:VTIMEZONE
BEGIN:VEVENT
UID:39152df1d92687fb71fe14a4daba4635@gruene-bodenseekreis.de
URL;VALUE=URI:https://gruene-bodenseekreis.de/blog/termine/gruener-treff-
 unterwegs/
LOCATION:Friedrichshafen
SUMMARY:Kleine Wandertour nach Berg mit Martin Hahn
DESCRIPTION;ALTREP="data:text/html,%0A%3Ch2%20class%3D%22wp-block-heading
 %22%3EGr%C3%BCner%20Treff%20unterwegs%3C%2Fh2%3E%0A%0A%0A%0A%3Cp%3EDer%20
 Ortsverband%20Friedrichshafen%20geht%20auf%20eine%20kleine%20Wandertour.%
 20Wir%20starten%20um%2012%20Uhr%20am%20Lernbiotop%20in%20der%20Margareten
 stra%C3%9Fe.%20Unser%20Ziel%20ist%20der%20Panoramaobstgarten%20in%20Berg.
 %20Dort%20besteht%20die%20M%C3%B6glichkeit%2C%20ab%2013%20Uhr%20mit%20Mar
 tin%20Hahn%20%28MdL%29%20ins%20Gespr%C3%A4ch%20zu%20kommen.%20Interessier
 te%20an%20der%20Kommunal-%20und%20Landespolitik%20sind%20herzlich%20einge
 laden%21%20Alternativ%20ist%20auch%20eine%20Anfahrt%20mit%20dem%20Bus%20m
 %C3%B6glich.%20Wir%20freuen%20uns%20auf%20euch.%3C%2Fp%3E%0A%0A%0A%0A%3Cp
 %3E%3C%2Fp%3E%0A%0A%0A%0A%3Cp%3E%3C%2Fp%3E%0A":Grüner Treff unterwegs\n\
 nDer Ortsverband Friedrichshafen geht auf eine kleine Wandertour. Wir sta
 rten um 12 Uhr am Lernbiotop in der Margaretenstraße. Unser Ziel ist der
  Panoramaobstgarten in Berg. Dort besteht die Möglichkeit\, ab 13 Uhr mi
 t Martin Hahn (MdL) ins Gespräch zu kommen. Interessierte an der Kommuna
 l- und Landespolitik sind herzlich eingeladen! Alternativ ist auch eine A
 nfahrt mit dem Bus möglich. Wir freuen uns auf euch.
CLASS:PUBLIC
DTSTART;TZID=Europe/Berlin:20230520T140000
DTEND;TZID=Europe/Berlin:20230520T150000
DTSTAMP:20260419T191121
END:VEVENT
END:VCALENDAR