BEGIN:VCALENDAR
VERSION:2.0
PRODID:gruene-bodenseekreis.de
METHOD:PUBLISH
BEGIN:VTIMEZONE
TZID:Europe/Berlin
X-LIC-LOCATION:Europe/Berlin
BEGIN:DAYLIGHT
TZOFFSETFROM:+0100
TZOFFSETTO:+0200
TZNAME:CEST
DTSTART:19700329T020000
RRULE:FREQ=YEARLY;INTERVAL=1;BYDAY=-1SU;BYMONTH=3
END:DAYLIGHT
BEGIN:STANDARD
TZOFFSETFROM:+0200
TZOFFSETTO:+0100
TZNAME:CET
DTSTART:19701025T030000
RRULE:FREQ=YEARLY;INTERVAL=1;BYDAY=-1SU;BYMONTH=10
END:STANDARD
END:VTIMEZONE
BEGIN:VEVENT
UID:43d07da99c51ed2a78f8dc7218b6a654@gruene-bodenseekreis.de
URL;VALUE=URI:https://gruene-bodenseekreis.de/blog/termine/gruener-treff-
 tettnang/
LOCATION:OV TT, Karlstr. 2/4, Tettnang
SUMMARY:Grüner Treff Tettnang
DESCRIPTION;ALTREP="data:text/html,%0A%3Cp%3EHotel%20Ritter%2C%20Nebenrau
 m%3C%2Fp%3E%0A":Hotel Ritter\, Nebenraum
CLASS:PUBLIC
DTSTART;TZID=Europe/Berlin:20250121T193000
DTEND;TZID=Europe/Berlin:20250121T210000
DTSTAMP:20260422T082444
END:VEVENT
END:VCALENDAR