BEGIN:VCALENDAR
VERSION:2.0
PRODID:gruene-bodenseekreis.de
METHOD:PUBLISH
BEGIN:VTIMEZONE
TZID:Europe/Berlin
X-LIC-LOCATION:Europe/Berlin
BEGIN:DAYLIGHT
TZOFFSETFROM:+0100
TZOFFSETTO:+0200
TZNAME:CEST
DTSTART:19700329T020000
RRULE:FREQ=YEARLY;INTERVAL=1;BYDAY=-1SU;BYMONTH=3
END:DAYLIGHT
BEGIN:STANDARD
TZOFFSETFROM:+0200
TZOFFSETTO:+0100
TZNAME:CET
DTSTART:19701025T030000
RRULE:FREQ=YEARLY;INTERVAL=1;BYDAY=-1SU;BYMONTH=10
END:STANDARD
END:VTIMEZONE
BEGIN:VEVENT
UID:e39e5da400ea992ee8163c78e6a48212@gruene-bodenseekreis.de
URL;VALUE=URI:https://gruene-bodenseekreis.de/blog/termine/gruener-stammt
 isch-8/
LOCATION:
SUMMARY:Grüner Stammtisch
DESCRIPTION;ALTREP="data:text/html,%0A%3Cp%3EZwischen%2010%20und%2012%20U
 hr%20tauschen%20wir%20uns%20im%20LOFT%20in%20der%20M%C3%B6ttelistra%C3%9F
 e%20%C3%BCber%20dies%20und%20das%20aus.%20Kommt%20gerne%20dazu%21%20%3C%2
 Fp%3E%0A":Zwischen 10 und 12 Uhr tauschen wir uns im LOFT in der Mötteli
 straße über dies und das aus. Kommt gerne dazu!
CLASS:PUBLIC
DTSTART;TZID=Europe/Berlin:20260502T100000
DTEND;TZID=Europe/Berlin:20260502T120000
DTSTAMP:20260421T111804
END:VEVENT
END:VCALENDAR