BEGIN:VCALENDAR
VERSION:2.0
PRODID:gruene-bodenseekreis.de
METHOD:PUBLISH
BEGIN:VTIMEZONE
TZID:Europe/Berlin
X-LIC-LOCATION:Europe/Berlin
BEGIN:DAYLIGHT
TZOFFSETFROM:+0100
TZOFFSETTO:+0200
TZNAME:CEST
DTSTART:19700329T020000
RRULE:FREQ=YEARLY;INTERVAL=1;BYDAY=-1SU;BYMONTH=3
END:DAYLIGHT
BEGIN:STANDARD
TZOFFSETFROM:+0200
TZOFFSETTO:+0100
TZNAME:CET
DTSTART:19701025T030000
RRULE:FREQ=YEARLY;INTERVAL=1;BYDAY=-1SU;BYMONTH=10
END:STANDARD
END:VTIMEZONE
BEGIN:VEVENT
UID:0519fa0cfe69aebe2699a5b6bf777908@gruene-bodenseekreis.de
URL;VALUE=URI:https://gruene-bodenseekreis.de/blog/termine/einladung-krei
 smitgliederversammlung-mit-delegiertenwahl-und-vorstandsnachwahl/
LOCATION:Aula Schloss Hersberg 1, 88090 Immenstaad
SUMMARY:Einladung Kreismitgliederversammlung mit Delegiertenwahl und Vors
 tandsnachwahl
DESCRIPTION;ALTREP="data:text/html,%0A%3Cdiv%20data-wp-interactive%3D%22c
 ore%2Ffile%22%20class%3D%22wp-block-file%22%3E%3Cobject%20data-wp-bind--h
 idden%3D%22%21state.hasPdfPreview%22%20hidden%20class%3D%22wp-block-file_
 _embed%22%20data%3D%22https%3A%2F%2Fgruene-bodenseekreis.de%2Fwp-content%
 2Fuploads%2F2025%2F03%2F250320_Einladung-Kreismitgliederversammlung.pdf%2
 2%20type%3D%22application%2Fpdf%22%20style%3D%22width%3A100%25%3Bheight%3
 A600px%22%20aria-label%3D%22Einbettung%20von%20250320_Einladung%20Kreismi
 tgliederversammlung.%22%3E%3C%2Fobject%3E%3Ca%20id%3D%22wp-block-file--me
 dia-2c550fae-8fb7-421a-abbe-5993eda68e2e%22%20href%3D%22https%3A%2F%2Fgru
 ene-bodenseekreis.de%2Fwp-content%2Fuploads%2F2025%2F03%2F250320_Einladun
 g-Kreismitgliederversammlung.pdf%22%3E250320_Einladung%20Kreismitgliederv
 ersammlung%3C%2Fa%3E%3Ca%20href%3D%22https%3A%2F%2Fgruene-bodenseekreis.d
 e%2Fwp-content%2Fuploads%2F2025%2F03%2F250320_Einladung-Kreismitgliederve
 rsammlung.pdf%22%20class%3D%22wp-block-file__button%20wp-element-button%2
 2%20download%20aria-describedby%3D%22wp-block-file--media-2c550fae-8fb7-4
 21a-abbe-5993eda68e2e%22%3EHerunterladen%3C%2Fa%3E%3C%2Fdiv%3E%0A":250320
 _Einladung KreismitgliederversammlungHerunterladen
CLASS:PUBLIC
DTSTART;TZID=Europe/Berlin:20250320T190000
DTEND;TZID=Europe/Berlin:20250320T210000
DTSTAMP:20260425T153058
END:VEVENT
END:VCALENDAR