BEGIN:VCALENDAR
VERSION:2.0
PRODID:gruene-bodenseekreis.de
METHOD:PUBLISH
BEGIN:VTIMEZONE
TZID:Europe/Berlin
X-LIC-LOCATION:Europe/Berlin
BEGIN:DAYLIGHT
TZOFFSETFROM:+0100
TZOFFSETTO:+0200
TZNAME:CEST
DTSTART:19700329T020000
RRULE:FREQ=YEARLY;INTERVAL=1;BYDAY=-1SU;BYMONTH=3
END:DAYLIGHT
BEGIN:STANDARD
TZOFFSETFROM:+0200
TZOFFSETTO:+0100
TZNAME:CET
DTSTART:19701025T030000
RRULE:FREQ=YEARLY;INTERVAL=1;BYDAY=-1SU;BYMONTH=10
END:STANDARD
END:VTIMEZONE
BEGIN:VEVENT
UID:88d75988ca48895337703dd0ec5cca30@gruene-bodenseekreis.de
URL;VALUE=URI:https://gruene-bodenseekreis.de/blog/termine/einladung-excu
 rsion-windpark-huettenreute-gruenen-fraktion-im-rvbo/
LOCATION:Hüttenreute
SUMMARY:Einladung Excursion Windpark Hüttenreute – Grünen-Fraktion im
  RVBO
DESCRIPTION;ALTREP="data:text/html,%0A%3Cp%3E%3Cstrong%3Eam%2016.07.2025%
 20Besichtigung%20des%20Windparks%20H%C3%BCttenreute%20ab%2018.00%20Uhr%3C
 %2Fstrong%3E%3C%2Fp%3E%0A%0A%0A%0A%3Cfigure%20class%3D%22wp-block-image%2
 0size-full%22%3E%3Cimg%20src%3D%22https%3A%2F%2Fgruene-bodenseekreis.de%2
 Fwp-content%2Fuploads%2F2025%2F07%2Fimage.png%22%20alt%3D%22%22%20class%3
 D%22wp-image-8416%22%20%2F%3E%3C%2Ffigure%3E%0A":am 16.07.2025 Besichtigu
 ng des Windparks Hüttenreute ab 18.00 Uhr
CLASS:PUBLIC
DTSTART;TZID=Europe/Berlin:20250716T180000
DTEND;TZID=Europe/Berlin:20250716T190000
DTSTAMP:20260421T100945
END:VEVENT
END:VCALENDAR