BEGIN:VCALENDAR
VERSION:2.0
PRODID:gruene-bodenseekreis.de
METHOD:PUBLISH
BEGIN:VTIMEZONE
TZID:Europe/Berlin
X-LIC-LOCATION:Europe/Berlin
BEGIN:DAYLIGHT
TZOFFSETFROM:+0100
TZOFFSETTO:+0200
TZNAME:CEST
DTSTART:19700329T020000
RRULE:FREQ=YEARLY;INTERVAL=1;BYDAY=-1SU;BYMONTH=3
END:DAYLIGHT
BEGIN:STANDARD
TZOFFSETFROM:+0200
TZOFFSETTO:+0100
TZNAME:CET
DTSTART:19701025T030000
RRULE:FREQ=YEARLY;INTERVAL=1;BYDAY=-1SU;BYMONTH=10
END:STANDARD
END:VTIMEZONE
BEGIN:VEVENT
UID:e9e1c171471516c40ac67a4dffb1c105@gruene-bodenseekreis.de
URL;VALUE=URI:https://gruene-bodenseekreis.de/blog/termine/besuch-des-hop
 fengut-n20-mit-nachtspaziergang/
LOCATION:Hopfengut N°20, Hopfengut 20, Tettnang
SUMMARY:Besuch des “Hopfengut N°20” mit Nachtspaziergang
DESCRIPTION;ALTREP="data:text/html,%0A%3Cp%3E%2802.11.2023%2C%20ms%29%20A
 m%20Freitag%2C%20den%2024.%20November%20l%C3%A4dt%20der%20Ortsverband%20d
 er%20Gr%C3%BCnen%20Tettnang%20zu%20einer%20Betriebsbesichtigung%20auf%20d
 as%20Hopfengut%20No%26nbsp%3B%2020%26nbsp%3Bin%20Siggenweiler%20ein.%20Ni
 cht%20das%20Hopfenmuseum%20ist%20Schwerpunkt%20der%20Veranstaltung%2C%20s
 ondern%20der%20Hopfenanbau.%20Welchen%20Herausforderungen%20die%20Landwir
 tschaft%20aktuell%20gegen%C3%BCbersteht%20und%20wie%20man%20in%20der%20he
 utigen%20Situation%20als%20Hopfenpflanzer%20darauf%20reagieren%20kann%2C%
 20soll%20Schwerpunkt%20im%20Gespr%C3%A4ch%20mit%20Gesch%C3%A4ftsf%C3%BChr
 er%20Lukas%20Locher%20sein.%20Der%20Betrieb%20mit%20langer%20Familientrad
 ition%20ist%20im%20Augenblick%20dabei%2C%20seine%20Produktion%20umzustell
 en%20und%20Bio-zertifizieren%20zu%20lassen.%3Cbr%3EIm%20Anschluss%20an%20
 das%20gemeinsame%20Gespr%C3%A4ch%20ist%20in%20der%20Gastst%C3%A4tte%20des
 %20Hopfenguts%20Zeit%2C%20das%20Erfahrene%20ausgiebig%20im%20Gespr%C3%A4c
 h%20zu%20er%C3%B6rtern%20und%20sich%20auszutauschen.%20Siggenweiler%20kan
 n%20mit%20dem%20Linienbus%2C%20der%20%E2%80%9EB%C3%A4hnle-Linie%E2%80%9C%
 20erreicht%20werden.%20Um%2015%3A47%20Uhr%20ist%20Abfahrt%20am%20B%C3%A4r
 enplatz.%20Die%20Veranstaltung%20beginnt%20um%2016%3A00%20im%20Hopfengut.
 %20Nach%20dem%20gemeinsamen%20Gastronomiebesuch%20um%2017%3A30%20Uhr%20fo
 lgt%20gegen%2020%3A30%20Uhr%20ein%20gemeinsamer%20Nachtspaziergang%2C%20a
 uf%20dem%20Hopfenwanderweg%20zur%C3%BCck%20nach%20Tettnang.%20F%C3%BCr%20
 Nichtwanderer%20besteht%20eine%20R%C3%BCckfahrm%C3%B6glichkeit.%3C%2Fp%3E
 %0A%0A%0A%0A%3Cp%3EDer%20Gr%C3%BCnen%20Ortsverband%20bittet%20um%20eine%2
 0Anmeldung%20bis%2018.11.2023%20per%20E%E2%80%91Mail%20unter%20schweizert
 t%28at%29t%E2%80%91online.de.%20Wer%20spontan%20dazukommen%20will%2C%20is
 t%20auch%20herzlich%20willkommen.%3C%2Fp%3E%0A%0A%0A%0A%3Cp%3E%3Ca%20href
 %3D%22https%3A%2F%2Ftwitter.com%2Fintent%2Ftweet%3Ftext%3DBesuch%2Bmit%2B
 Nachtspaziergang%26amp%3Burl%3Dhttps%3A%2F%2Fgruene-bodenseekreis.de%2Fov
 -tettnang%2Fbesuch-mit-nachtspaziergang%2F%26amp%3Bvia%3D%22%20target%3D%
 22_blank%22%20rel%3D%22noreferrer%20noopener%22%3E%3C%2Fa%3E%3Ca%20href%3
 D%22mailto%3A%3Fsubject%3DBesuch%2Bmit%2BNachtspaziergang%26amp%3Bbody%3D
 https%3A%2F%2Fgruene-bodenseekreis.de%2Fov-tettnang%2Fbesuch-mit-nachtspa
 ziergang%2F%22%3E%3C%2Fa%3E%3C%2Fp%3E%0A%0A%0A%0A%3Cp%3E%3Ca%20href%3D%22
 https%3A%2F%2Fgruene-bodenseekreis.de%2Fcategory%2Fallgemein%2F%22%3EAllg
 emein%3C%2Fa%3E%2C%26nbsp%3B%3Ca%20href%3D%22https%3A%2F%2Fgruene-bodense
 ekreis.de%2Fcategory%2Fov-tettnang%2F%22%3EOV%20Tet%3C%2Fa%3E%3C%2Fp%3E%0
 A":(02.11.2023\, ms) Am Freitag\, den 24. November lädt der Ortsverband 
 der Grünen Tettnang zu einer Betriebsbesichtigung auf das Hopfengut No 
  20 in Siggenweiler ein. Nicht das Hopfenmuseum ist Schwerpunkt der Vera
 nstaltung\, sondern der Hopfenanbau. Welchen Herausforderungen die Landwi
 rtschaft aktuell gegenübersteht und wie man in der heutigen Situation al
 s Hopfenpflanzer darauf reagieren kann\, soll Schwerpunkt im Gespräch mi
 t Geschäftsführer Lukas Locher sein. Der Betrieb mit langer Familientra
 dition ist im Augenblick dabei\, seine Produktion umzustellen und Bio-zer
 tifizieren zu lassen.Im Anschluss an das gemeinsame Gespräch ist in der 
 Gaststätte des Hopfenguts Zeit\, das Erfahrene ausgiebig im Gespräch zu
  erörtern und sich auszutauschen. Siggenweiler kann mit dem Linienbus\, 
 der „Bähnle-Linie“ erreicht werden. Um 15:47 Uhr ist Abfahrt am Bär
 enplatz. Die Veranstaltung beginnt um 16:00 im Hopfengut. Nach dem gemein
 samen Gastronomiebesuch um 17:30 Uhr folgt gegen 20:30 Uhr ein gemeinsame
 r Nachtspaziergang\, auf dem Hopfenwanderweg zurück nach Tettnang. Für 
 Nichtwanderer besteht eine Rückfahrmöglichkeit.\n\nDer Grünen Ortsverb
 and bittet um eine Anmeldung bis 18.11.2023 per E‑Mail unter schweizert
 t(at)t‑online.de. Wer spontan dazukommen will\, ist auch herzlich willk
 ommen.\n\nAllgemein\, OV Tet
CLASS:PUBLIC
DTSTART;TZID=Europe/Berlin:20231124T160000
DTEND;TZID=Europe/Berlin:20231124T200000
DTSTAMP:20260422T101109
END:VEVENT
END:VCALENDAR