BEGIN:VCALENDAR
VERSION:2.0
PRODID:gruene-bodenseekreis.de
METHOD:PUBLISH
BEGIN:VTIMEZONE
TZID:Europe/Berlin
X-LIC-LOCATION:Europe/Berlin
BEGIN:DAYLIGHT
TZOFFSETFROM:+0100
TZOFFSETTO:+0200
TZNAME:CEST
DTSTART:19700329T020000
RRULE:FREQ=YEARLY;INTERVAL=1;BYDAY=-1SU;BYMONTH=3
END:DAYLIGHT
BEGIN:STANDARD
TZOFFSETFROM:+0200
TZOFFSETTO:+0100
TZNAME:CET
DTSTART:19701025T030000
RRULE:FREQ=YEARLY;INTERVAL=1;BYDAY=-1SU;BYMONTH=10
END:STANDARD
END:VTIMEZONE
BEGIN:VEVENT
UID:2f433129cedfc89a9200b5e50a0e8b99@gruene-bodenseekreis.de
URL;VALUE=URI:https://gruene-bodenseekreis.de/blog/termine/auftakttreffen
 -gemeinderatswahlen-2024/
LOCATION:Hofgut Rengoldshausen, Haus Rengoldshauserstraße 29A, Überling
 en
SUMMARY:Auftakttreffen Gemeinderatswahlen 2024
DESCRIPTION;ALTREP="data:text/html,%0A%3Cp%3EEs%20wird%20das%20erste%20vo
 n%20mehreren%20Treffen%20sein%2C%20in%20denen%20wir%20unsere%20Schwerpunk
 te%20f%C3%BCr%20den%20kommenden%20Gemeinderat%20und%20das%20Wahlprogramm%
 20vorbereiten%20wollen.%20Wir%2C%20das%20sind%20der%20Ortsverband%20von%2
 0B%C3%BCndnis90%2FDie%20Gr%C3%BCnen%20und%20die%20LBU%20%28Liste%20f%C3%B
 Cr%20B%C3%BCrgerbeteiligung%20und%20Umweltschutz%29%2C%20aber%20auch%20al
 le%2C%20die%20sich%20gerne%20parteiunabh%C3%A4ngig%20f%C3%BCr%20unsere%20
 gemeinsamen%20Ziele%20einsetzen%20m%C3%B6chten.%3C%2Fp%3E%0A":Es wird das
  erste von mehreren Treffen sein\, in denen wir unsere Schwerpunkte für 
 den kommenden Gemeinderat und das Wahlprogramm vorbereiten wollen. Wir\, 
 das sind der Ortsverband von Bündnis90/Die Grünen und die LBU (Liste f
 ür Bürgerbeteiligung und Umweltschutz)\, aber auch alle\, die sich gern
 e parteiunabhängig für unsere gemeinsamen Ziele einsetzen möchten.
CLASS:PUBLIC
DTSTART;TZID=Europe/Berlin:20231125T100000
DTEND;TZID=Europe/Berlin:20231125T130000
DTSTAMP:20260421T101231
END:VEVENT
END:VCALENDAR